BEGIN:VCALENDAR
VERSION:2.0
PRODID:-//VIVAcroyoga - ECPv6.14.0//NONSGML v1.0//EN
CALSCALE:GREGORIAN
METHOD:PUBLISH
X-WR-CALNAME:VIVAcroyoga
X-ORIGINAL-URL:https://vivacroyoga.com/fr
X-WR-CALDESC:Événements pour VIVAcroyoga
REFRESH-INTERVAL;VALUE=DURATION:PT1H
X-Robots-Tag:noindex
X-PUBLISHED-TTL:PT1H
BEGIN:VTIMEZONE
TZID:America/New_York
BEGIN:DAYLIGHT
TZOFFSETFROM:-0500
TZOFFSETTO:-0400
TZNAME:EDT
DTSTART:20250309T070000
END:DAYLIGHT
BEGIN:STANDARD
TZOFFSETFROM:-0400
TZOFFSETTO:-0500
TZNAME:EST
DTSTART:20251102T060000
END:STANDARD
END:VTIMEZONE
BEGIN:VEVENT
DTSTART;TZID=America/New_York:20250609T120000
DTEND;TZID=America/New_York:20250609T170000
DTSTAMP:20260416T044400
CREATED:20250317T200507Z
LAST-MODIFIED:20250327T114837Z
UID:10000413-1749470400-1749488400@vivacroyoga.com
SUMMARY:The Long Game
DESCRIPTION:Level up your AcroYoga practice with this high-energy advanced class! Explore tricky transitions and complex sequences that challenge your focus\, trust\, and teamwork. Perfect for experienced AcroYogis ready to push boundaries\, this class will leave you sweating\, laughing\, and discovering new strengths.
URL:https://vivacroyoga.com/fr/workshop/the-long-game/
LOCATION:Studio B\, 4750 Henri Julien Ave\, Montreal\, Quebec\, H2T 2C8\, Canada
CATEGORIES:INTERMEDIATE
END:VEVENT
BEGIN:VEVENT
DTSTART;TZID=America/New_York:20250610T120000
DTEND;TZID=America/New_York:20250610T170000
DTSTAMP:20260416T044400
CREATED:20250317T200751Z
LAST-MODIFIED:20250319T115124Z
UID:10000414-1749556800-1749574800@vivacroyoga.com
SUMMARY:Group Standing Acro
DESCRIPTION:Group acrobatics offers an empowering way to explore standing H2H with added support\, teamwork\, and shared joy. This daylong workshop introduces creative and achievable entries into upside-down and upright stacks\, including H2H and 3-high variations\, helping experienced AcroYoga practitioners level up in a fun and progressive environment.
URL:https://vivacroyoga.com/fr/workshop/group-standing-acro/
LOCATION:Studio B\, 4750 Henri Julien Ave\, Montreal\, Quebec\, H2T 2C8\, Canada
CATEGORIES:INTERMEDIATE
END:VEVENT
BEGIN:VEVENT
DTSTART;TZID=America/New_York:20250611T120000
DTEND;TZID=America/New_York:20250611T170000
DTSTAMP:20260416T044400
CREATED:20250317T201633Z
LAST-MODIFIED:20250325T125559Z
UID:10000416-1749643200-1749661200@vivacroyoga.com
SUMMARY:Acroyoga Montreal Deep Dive
DESCRIPTION:Join Jessie\, Eugene\, Heidi & Jill\, for a thrilling daylong that will kick your creativity into high gear and ask you to use your whole body. This will be a dynamic day to explore the edges of what’s possible\, in Acroyoga Montreal signature style!
URL:https://vivacroyoga.com/fr/workshop/acroyoga-montreal-deep-dive-2/
LOCATION:Studio B\, 4750 Henri Julien Ave\, Montreal\, Quebec\, H2T 2C8\, Canada
CATEGORIES:INTERMEDIATE
END:VEVENT
BEGIN:VEVENT
DTSTART;TZID=America/New_York:20250612T120000
DTEND;TZID=America/New_York:20250612T170000
DTSTAMP:20260416T044400
CREATED:20250317T201455Z
LAST-MODIFIED:20250327T115109Z
UID:10000415-1749729600-1749747600@vivacroyoga.com
SUMMARY:Icarian: Clean Throws\, Steady Flows
DESCRIPTION:This workshop refines Icarian fundamentals\, enhancing rhythm\, float\, and tempo in pops while exploring creative sequences\, unique entrances\, and exits to achieve flow-state. Suitable for all levels\, newer practitioners will build toward edge skills\, while advanced students tackle trickier sequences with ease.
URL:https://vivacroyoga.com/fr/workshop/icarian-clean-throws-steady-flows/
LOCATION:Studio B\, 4750 Henri Julien Ave\, Montreal\, Quebec\, H2T 2C8\, Canada
CATEGORIES:INTERMEDIATE
END:VEVENT
BEGIN:VEVENT
DTSTART;TZID=America/New_York:20250613T093000
DTEND;TZID=America/New_York:20250615T220000
DTSTAMP:20260416T044400
CREATED:20250319T124315Z
LAST-MODIFIED:20250613T203541Z
UID:10000439-1749807000-1750024800@vivacroyoga.com
SUMMARY:Morning Meet and Warm Up
DESCRIPTION:
URL:https://vivacroyoga.com/fr/workshop/morning-meet-and-warm-up/
LOCATION:Studio A\, 4750 Henri Julien Ave\, Montreal\, Quebec\, H2T 2C8\, Canada
CATEGORIES:EVERYONE/EVENT/ACROCHAT
END:VEVENT
BEGIN:VEVENT
DTSTART;TZID=America/New_York:20250613T100000
DTEND;TZID=America/New_York:20250613T114500
DTSTAMP:20260416T044400
CREATED:20250319T115344Z
LAST-MODIFIED:20250319T115344Z
UID:10000419-1749808800-1749815100@vivacroyoga.com
SUMMARY:Spotting Skills
DESCRIPTION:Enhance your spotting techniques to support AcroYoga poses\, transitions\, and advanced tricks with confidence and care. This workshop covers safe spotting methods\, creative approaches\, and effective communication to improve your practice and build a safer\, stronger community.
URL:https://vivacroyoga.com/fr/workshop/spotting-skills/
LOCATION:Studio C\, 4750 Henri Julien Ave\, Montreal\, Quebec\, H2T 2C8\, Canada
CATEGORIES:ALL LEVELS
END:VEVENT
BEGIN:VEVENT
DTSTART;TZID=America/New_York:20250613T100000
DTEND;TZID=America/New_York:20250613T114500
DTSTAMP:20260416T044400
CREATED:20250325T131122Z
LAST-MODIFIED:20250327T123734Z
UID:10000448-1749808800-1749815100@vivacroyoga.com
SUMMARY:Advanced Core Expression
DESCRIPTION:This workshop explores how a strong\, integrated core enhances mobility\, control\, and creativity\, allowing you to execute challenging moves safely and with ease.
URL:https://vivacroyoga.com/fr/workshop/advanced-core-expression/
LOCATION:Studio B\, 4750 Henri Julien Ave\, Montreal\, Quebec\, H2T 2C8\, Canada
CATEGORIES:ADVANCED
END:VEVENT
BEGIN:VEVENT
DTSTART;TZID=America/New_York:20250613T100000
DTEND;TZID=America/New_York:20250613T114600
DTSTAMP:20260416T044400
CREATED:20250319T114313Z
LAST-MODIFIED:20250319T114804Z
UID:10000417-1749808800-1749815160@vivacroyoga.com
SUMMARY:Handstandy Flow
DESCRIPTION:Explore playful inversion flows with creative handstand-inspired movements. From A-cim and reverse to funky variations\, this dynamic class adapts to all levels. Discover unique transitions\, mono balances\, and smooth sequences for a graceful\, flowing practice.
URL:https://vivacroyoga.com/fr/workshop/handstandy-flow/
LOCATION:Studio A\, 4750 Henri Julien Ave\, Montreal\, Quebec\, H2T 2C8\, Canada
CATEGORIES:INTERMEDIATE
END:VEVENT
BEGIN:VEVENT
DTSTART;TZID=America/New_York:20250613T140000
DTEND;TZID=America/New_York:20250613T154500
DTSTAMP:20260416T044400
CREATED:20250319T115551Z
LAST-MODIFIED:20250319T115625Z
UID:10000420-1749823200-1749829500@vivacroyoga.com
SUMMARY:2-High Entrances & Exits
DESCRIPTION:The 2-high is a fundamental element of standing acrobatics\, offering a dynamic space to explore alignment and partner connection. This workshop focuses on mastering the 2-high\, with key entrances\, exits\, and\, if time allows\, some fun variations. Strengthening these transitions will boost your versatility\, confidence\, and safety in standing acro.
URL:https://vivacroyoga.com/fr/workshop/2-high-entrances-exits/
LOCATION:Studio A\, 4750 Henri Julien Ave\, Montreal\, Quebec\, H2T 2C8\, Canada
CATEGORIES:INTERMEDIATE
END:VEVENT
BEGIN:VEVENT
DTSTART;TZID=America/New_York:20250613T140000
DTEND;TZID=America/New_York:20250613T154500
DTSTAMP:20260416T044400
CREATED:20250319T115754Z
LAST-MODIFIED:20250319T115754Z
UID:10000421-1749823200-1749829500@vivacroyoga.com
SUMMARY:Back Whips
DESCRIPTION:Focuses on refining back whip technique while introducing variations and progressions for popping into back whips. By training your nervous system and following a progressive\, multi-level approach\, these challenging skills will become safer and more accessible.
URL:https://vivacroyoga.com/fr/workshop/back-whips/
LOCATION:Studio B\, 4750 Henri Julien Ave\, Montreal\, Quebec\, H2T 2C8\, Canada
CATEGORIES:ADVANCED
END:VEVENT
BEGIN:VEVENT
DTSTART;TZID=America/New_York:20250613T140000
DTEND;TZID=America/New_York:20250613T154500
DTSTAMP:20260416T044401
CREATED:20250325T120552Z
LAST-MODIFIED:20250325T120552Z
UID:10000442-1749823200-1749829500@vivacroyoga.com
SUMMARY:Mindful Dynamics
DESCRIPTION:This AcroYoga session blends mindfulness and acrobatics\, exploring balancing\, hands-free transitions\, and creative movements in a supportive and empowering space for all levels.
URL:https://vivacroyoga.com/fr/workshop/mindful-dynamics/
LOCATION:Studio C\, 4750 Henri Julien Ave\, Montreal\, Quebec\, H2T 2C8\, Canada
CATEGORIES:ALL LEVELS
END:VEVENT
BEGIN:VEVENT
DTSTART;TZID=America/New_York:20250613T160000
DTEND;TZID=America/New_York:20250613T174500
DTSTAMP:20260416T044401
CREATED:20250319T114556Z
LAST-MODIFIED:20250325T121125Z
UID:10000418-1749830400-1749836700@vivacroyoga.com
SUMMARY:F2H Monos
DESCRIPTION:This class is designed to help you build confidence in mono balances and weight shifting. Starting with simple progressions\, you’ll gradually increase height and complexity in a calm\, safe\, and supportive environment—perfect for those looking to expand their balance skills with the encouragement of friends.
URL:https://vivacroyoga.com/fr/workshop/f2h-monos/
LOCATION:Studio B\, 4750 Henri Julien Ave\, Montreal\, Quebec\, H2T 2C8\, Canada
CATEGORIES:ADVANCED
END:VEVENT
BEGIN:VEVENT
DTSTART;TZID=America/New_York:20250613T160000
DTEND;TZID=America/New_York:20250613T174500
DTSTAMP:20260416T044401
CREATED:20250319T120029Z
LAST-MODIFIED:20250319T122800Z
UID:10000422-1749830400-1749836700@vivacroyoga.com
SUMMARY:Flow in Motion
DESCRIPTION:This workshop invites you to explore the creative process behind AcroYoga. Through guided exercises and group discussions\, you’ll discover how to generate ideas\, find inspiration\, and build personalized flows. Together\, we’ll co-create a unique sequence to polish and perform at the Saturday night show. Come ready to play\, share\, and create something magical!
URL:https://vivacroyoga.com/fr/workshop/flow-in-motion/
LOCATION:Studio A\, 4750 Henri Julien Ave\, Montreal\, Quebec\, H2T 2C8\, Canada
CATEGORIES:INTERMEDIATE
END:VEVENT
BEGIN:VEVENT
DTSTART;TZID=America/New_York:20250613T160000
DTEND;TZID=America/New_York:20250613T174500
DTSTAMP:20260416T044401
CREATED:20250325T121944Z
LAST-MODIFIED:20250325T121944Z
UID:10000443-1749830400-1749836700@vivacroyoga.com
SUMMARY:Tempos Pops
DESCRIPTION:This workshop focuses on connecting pops to enhance your Icarian practice\, improving coordination\, communication\, focus\, and endurance for smoother\, more dynamic flows.
URL:https://vivacroyoga.com/fr/workshop/tempos-pops/
LOCATION:Studio C\, 4750 Henri Julien Ave\, Montreal\, Quebec\, H2T 2C8\, Canada
CATEGORIES:ALL LEVELS
END:VEVENT
BEGIN:VEVENT
DTSTART;TZID=America/New_York:20250614T100000
DTEND;TZID=America/New_York:20250614T114500
DTSTAMP:20260416T044401
CREATED:20250319T120353Z
LAST-MODIFIED:20250319T120353Z
UID:10000424-1749895200-1749901500@vivacroyoga.com
SUMMARY:Cabinet of Curiosities
DESCRIPTION:Discover unique foot-to-foot moves in this special 2-hour workshop. Perfect for those who love exploring new shapes and challenging balances\, this session invites bases to adapt and flyers to refine their stability. Get ready to experience foot-to-foot like never before!
URL:https://vivacroyoga.com/fr/workshop/cabinet-of-curiosities/
LOCATION:Studio B\, 4750 Henri Julien Ave\, Montreal\, Quebec\, H2T 2C8\, Canada
CATEGORIES:ADVANCED
END:VEVENT
BEGIN:VEVENT
DTSTART;TZID=America/New_York:20250614T100000
DTEND;TZID=America/New_York:20250614T114500
DTSTAMP:20260416T044401
CREATED:20250325T122130Z
LAST-MODIFIED:20250325T122130Z
UID:10000444-1749895200-1749901500@vivacroyoga.com
SUMMARY:Dance Lifts
DESCRIPTION:This workshop offers a playful AcroYoga experience\, blending classic moves\, rare gems\, and creative combinations for a unique and dynamic practice.
URL:https://vivacroyoga.com/fr/workshop/dance-lifts-4/
LOCATION:Studio A\, 4750 Henri Julien Ave\, Montreal\, Quebec\, H2T 2C8\, Canada
CATEGORIES:INTERMEDIATE
END:VEVENT
BEGIN:VEVENT
DTSTART;TZID=America/New_York:20250614T100000
DTEND;TZID=America/New_York:20250614T120000
DTSTAMP:20260416T044401
CREATED:20250319T121320Z
LAST-MODIFIED:20250325T122555Z
UID:10000428-1749895200-1749902400@vivacroyoga.com
SUMMARY:Intro to Whips
DESCRIPTION:Build your whips from the ground up in this supportive and progressive class. Perfect for those familiar with acro but hesitant to dive into whips\, this session offers drills and progressions to help you develop big\, dynamic swings. You’ll also gain valuable spotting skills and learn techniques inspired by whippers from around the world\, setting you up for long-term success in your practice.
URL:https://vivacroyoga.com/fr/workshop/intro-to-whips/
LOCATION:Studio C\, 4750 Henri Julien Ave\, Montreal\, Quebec\, H2T 2C8\, Canada
CATEGORIES:ALL LEVELS
END:VEVENT
BEGIN:VEVENT
DTSTART;TZID=America/New_York:20250614T120000
DTEND;TZID=America/New_York:20250614T133000
DTSTAMP:20260416T044401
CREATED:20250325T120207Z
LAST-MODIFIED:20250411T132301Z
UID:10000441-1749902400-1749907800@vivacroyoga.com
SUMMARY:Wash & Flow
DESCRIPTION:This workshop focuses on linking poses with control and intention\, turning transitions into smooth\, intentional movements. Starting with strong fundamentals\, you’ll explore fluid sequencing\, dynamic flows\, and even challenge yourself to reverse transitions for a more exciting AcroYoga practice.
URL:https://vivacroyoga.com/fr/workshop/beginners-wash-the-flow-transition-machine/
LOCATION:Studio C\, 4750 Henri Julien Ave\, Montreal\, Quebec\, H2T 2C8\, Canada
CATEGORIES:BEGINNER
END:VEVENT
BEGIN:VEVENT
DTSTART;TZID=America/New_York:20250614T121500
DTEND;TZID=America/New_York:20250614T134500
DTSTAMP:20260416T044401
CREATED:20250327T120520Z
LAST-MODIFIED:20250414T130409Z
UID:10000452-1749903300-1749908700@vivacroyoga.com
SUMMARY:Acrochat: Analyze your Acro
DESCRIPTION:This acro lab focuses on the often-overlooked non-physical aspects of your practice. Through self-assessment and reflection\, you’ll gain insights into your strengths and growth areas\, becoming a more mindful partner and community member—no matter your skill level.
URL:https://vivacroyoga.com/fr/workshop/acrochat/
LOCATION:Studio A\, 4750 Henri Julien Ave\, Montreal\, Quebec\, H2T 2C8\, Canada
CATEGORIES:EVERYONE/EVENT/ACROCHAT
END:VEVENT
BEGIN:VEVENT
DTSTART;TZID=America/New_York:20250614T140000
DTEND;TZID=America/New_York:20250614T154500
DTSTAMP:20260416T044401
CREATED:20250319T120934Z
LAST-MODIFIED:20250319T120934Z
UID:10000426-1749909600-1749915900@vivacroyoga.com
SUMMARY:Head Games
DESCRIPTION:This workshop opens the door to a world of possibilities where creative basing and precise inversions use the head as a balance point. Innovative\, exciting\, and well-curated material will be presented in a safe container.
URL:https://vivacroyoga.com/fr/workshop/head-games/
LOCATION:Studio A\, 4750 Henri Julien Ave\, Montreal\, Quebec\, H2T 2C8\, Canada
CATEGORIES:INTERMEDIATE
END:VEVENT
BEGIN:VEVENT
DTSTART;TZID=America/New_York:20250614T140000
DTEND;TZID=America/New_York:20250614T154500
DTSTAMP:20260416T044401
CREATED:20250319T121158Z
LAST-MODIFIED:20250604T143800Z
UID:10000427-1749909600-1749915900@vivacroyoga.com
SUMMARY:Pitching
DESCRIPTION:Designed for those looking to build a strong pitching foundation—with a twist. We’ll go over the basics to lock in solid technique\, then turn up the creativity and get funky with it. Where will we pitch? Who can say—but wherever it is\, we’ll do it well and with style!
URL:https://vivacroyoga.com/fr/workshop/pitching/
LOCATION:Studio B\, 4750 Henri Julien Ave\, Montreal\, Quebec\, H2T 2C8\, Canada
CATEGORIES:ADVANCED
END:VEVENT
BEGIN:VEVENT
DTSTART;TZID=America/New_York:20250614T140000
DTEND;TZID=America/New_York:20250614T154500
DTSTAMP:20260416T044401
CREATED:20250325T130100Z
LAST-MODIFIED:20250327T123635Z
UID:10000445-1749909600-1749915900@vivacroyoga.com
SUMMARY:Montreal Style
DESCRIPTION:Experience AcroYoga Montreal’s signature blend of technique\, creativity\, safety\, and community in this fun\, multilevel workshop where everyone can express themselves freely.
URL:https://vivacroyoga.com/fr/workshop/montreal-style/
LOCATION:Studio C\, 4750 Henri Julien Ave\, Montreal\, Quebec\, H2T 2C8\, Canada
CATEGORIES:ADVANCED
END:VEVENT
BEGIN:VEVENT
DTSTART;TZID=America/New_York:20250614T160000
DTEND;TZID=America/New_York:20250614T174500
DTSTAMP:20260416T044401
CREATED:20250319T121623Z
LAST-MODIFIED:20250319T121623Z
UID:10000430-1749916800-1749923100@vivacroyoga.com
SUMMARY:Magical Counterbalance
DESCRIPTION:Building on foundational skills\, you’ll explore intricate poses\, refine techniques\, and master transitions. Gain a deeper understanding of weight distribution and partner communication while expanding your AcroYoga repertoire. Come ready to connect\, collaborate\, and challenge yourself!
URL:https://vivacroyoga.com/fr/workshop/magical-counterbalance/
LOCATION:Studio B\, 4750 Henri Julien Ave\, Montreal\, Quebec\, H2T 2C8\, Canada
CATEGORIES:ADVANCED
END:VEVENT
BEGIN:VEVENT
DTSTART;TZID=America/New_York:20250614T160000
DTEND;TZID=America/New_York:20250614T174500
DTSTAMP:20260416T044401
CREATED:20250319T121946Z
LAST-MODIFIED:20250319T121946Z
UID:10000431-1749916800-1749923100@vivacroyoga.com
SUMMARY:Acro Mix Tape
DESCRIPTION:This dynamic session blends classic machines with fresh\, funky creations for a fast-paced flow of fun. Whether a full daylong or shorter class\, content can be adjusted to suit your needs. Expect tricky machines\, Acro games\, and co-created sequences.
URL:https://vivacroyoga.com/fr/workshop/acro-mix-tape/
LOCATION:Studio C\, 4750 Henri Julien Ave\, Montreal\, Quebec\, H2T 2C8\, Canada
CATEGORIES:ALL LEVELS
END:VEVENT
BEGIN:VEVENT
DTSTART;TZID=America/New_York:20250615T100000
DTEND;TZID=America/New_York:20250615T114500
DTSTAMP:20260416T044401
CREATED:20250319T123008Z
LAST-MODIFIED:20250319T123008Z
UID:10000433-1749981600-1749987900@vivacroyoga.com
SUMMARY:Standing H2H
DESCRIPTION:This workshop focuses on strengthening your standing H2H skills. You’ll practice holding H2H for 10 seconds\, base squats in H2H\, and progressing to an inlocate to shoulders. Some pitching experience is helpful as we build on those techniques.
URL:https://vivacroyoga.com/fr/workshop/standing-h2h/
LOCATION:Studio B\, 4750 Henri Julien Ave\, Montreal\, Quebec\, H2T 2C8\, Canada
CATEGORIES:ADVANCED
END:VEVENT
BEGIN:VEVENT
DTSTART;TZID=America/New_York:20250615T100000
DTEND;TZID=America/New_York:20250615T114500
DTSTAMP:20260416T044401
CREATED:20250319T123125Z
LAST-MODIFIED:20250327T123335Z
UID:10000434-1749981600-1749987900@vivacroyoga.com
SUMMARY:Standing Flow
DESCRIPTION:Flow to a new level in this standing skills class. Open to everyone from beginners to experienced acrobats who want to try the other role. Become a better acrobat with tips and tricks from this tall flyer/short queen dynamic duo.
URL:https://vivacroyoga.com/fr/workshop/standing-flow/
LOCATION:Studio C\, 4750 Henri Julien Ave\, Montreal\, Quebec\, H2T 2C8\, Canada
CATEGORIES:ALL LEVELS
END:VEVENT
BEGIN:VEVENT
DTSTART;TZID=America/New_York:20250615T100000
DTEND;TZID=America/New_York:20250615T114500
DTSTAMP:20260416T044401
CREATED:20250325T130650Z
LAST-MODIFIED:20250327T123505Z
UID:10000446-1749981600-1749987900@vivacroyoga.com
SUMMARY:Ballerina Variations
DESCRIPTION:This workshop focuses on key techniques for smoother transitions\, helping flyers engage properly\, bases refine foot placement\, and partners support rotations with ease.
URL:https://vivacroyoga.com/fr/workshop/ballerina-variations/
LOCATION:Studio A\, 4750 Henri Julien Ave\, Montreal\, Quebec\, H2T 2C8\, Canada
CATEGORIES:INTERMEDIATE
END:VEVENT
BEGIN:VEVENT
DTSTART;TZID=America/New_York:20250615T121500
DTEND;TZID=America/New_York:20250615T134500
DTSTAMP:20260416T044401
CREATED:20250319T120758Z
LAST-MODIFIED:20250430T124201Z
UID:10000425-1749989700-1749995100@vivacroyoga.com
SUMMARY:Find your Foundations
DESCRIPTION:Focuses on essential acro movements and refining key building blocks. Ideal for beginners or anyone looking to improve ease and fluidity\, you’ll learn important techniques and communication strategies to strengthen your acro practice. Build confidence\, connect with others\, and enjoy the journey of learning something new!
URL:https://vivacroyoga.com/fr/workshop/find-your-foundations/
LOCATION:Studio C\, 4750 Henri Julien Ave\, Montreal\, Quebec\, H2T 2C8\, Canada
CATEGORIES:BEGINNER
END:VEVENT
BEGIN:VEVENT
DTSTART;TZID=America/New_York:20250615T121500
DTEND;TZID=America/New_York:20250615T134500
DTSTAMP:20260416T044401
CREATED:20250327T120428Z
LAST-MODIFIED:20250415T040654Z
UID:10000451-1749989700-1749995100@vivacroyoga.com
SUMMARY:Acrochat: Acro\, Connection\, and the Quiet Rebellion
DESCRIPTION:This talk explores how societal pressures like individualism and productivity shape Acro connections\, offering insights and tools to cultivate more meaningful\, community-driven practices.
URL:https://vivacroyoga.com/fr/workshop/acrochat-acro-connection-and-the-quiet-rebellion/
LOCATION:Studio A\, 4750 Henri Julien Ave\, Montreal\, Quebec\, H2T 2C8\, Canada
CATEGORIES:EVERYONE/EVENT/ACROCHAT
END:VEVENT
BEGIN:VEVENT
DTSTART;TZID=America/New_York:20250615T140000
DTEND;TZID=America/New_York:20250615T154500
DTSTAMP:20260416T044401
CREATED:20250319T123304Z
LAST-MODIFIED:20250327T122937Z
UID:10000435-1749996000-1750002300@vivacroyoga.com
SUMMARY:Dance Lifts
DESCRIPTION:This workshop will guide students through a short dance lift flow\, breaking down key “power moves” for better understanding. We’ll emphasize playfulness and creativity\, inviting participants to blend everything together for a fun and dynamic experience.
URL:https://vivacroyoga.com/fr/workshop/dance-lifts-3/
LOCATION:Studio A\, 4750 Henri Julien Ave\, Montreal\, Quebec\, H2T 2C8\, Canada
CATEGORIES:INTERMEDIATE
END:VEVENT
END:VCALENDAR